BEGIN:VCALENDAR
VERSION:2.0
PRODID:-//Sylvie Alves - ECPv6.14.1//NONSGML v1.0//EN
CALSCALE:GREGORIAN
METHOD:PUBLISH
X-WR-CALNAME:Sylvie Alves
X-ORIGINAL-URL:https://sylviealves.com
X-WR-CALDESC:Évènements pour Sylvie Alves
REFRESH-INTERVAL;VALUE=DURATION:PT1H
X-Robots-Tag:noindex
X-PUBLISHED-TTL:PT1H
BEGIN:VTIMEZONE
TZID:Europe/Paris
BEGIN:DAYLIGHT
TZOFFSETFROM:+0100
TZOFFSETTO:+0200
TZNAME:CEST
DTSTART:20260329T010000
END:DAYLIGHT
BEGIN:STANDARD
TZOFFSETFROM:+0200
TZOFFSETTO:+0100
TZNAME:CET
DTSTART:20261025T010000
END:STANDARD
END:VTIMEZONE
BEGIN:VEVENT
DTSTART;TZID=Europe/Paris:20260424T160000
DTEND;TZID=Europe/Paris:20260424T180000
DTSTAMP:20260424T014055
CREATED:20251130T142005Z
LAST-MODIFIED:20260421T140458Z
UID:5478-1777046400-1777053600@sylviealves.com
SUMMARY:Atelier EFT
DESCRIPTION:Ateliers pratiques pour la mise en application des acquis et revoir les points flous…Pour pratiquer les variantes de l’EFT\, répondre à vos questions/hésitations\, traiter vos problématiques personnelles… \n\n\n\nLors de ces rendez-vous :\n– Vous poserez vos questions par rapport aux problèmes rencontrés dans votre pratique personnelle ou en séance.\n– Vous apprendrez à pratiquer entre vous\, l’un jouera au thérapeute et l’autre jouera au client\, tout en étant supervisés. Je serai là pour vous soutenir et vous guider (anamnèse et pratique de l’EFT.)\n– Vous ferez des séances collectives selon vos thèmes abordés ensemble\, dirigées par l’un des participants ou moi. \n\n\n\nDès 5 personnes inscrites l’atelier est confirmé :-) \nL’EFTL’EFT a sa place dans la psychologie énergétique\, qui fait la relation entre le système énergétique\, les émotions\, les mémoires\, la santé… en vue d’harmoniser le corps\, l’âme et l’esprit.\nNous sommes tous conditionnés depuis l’enfance par la société\, la religion\, la famille\, l’école… bref nous avons tous oublié qui nous sommes réellement.\nAfin de sortir de cette position\, il nous faut comprendre comment les champs de force mémoriels nous amènent à vivre ces circonstances de façon répétitive.\nLes identifier et désamorcer les vieux programmes qui bouclent\, pour retrouver la légèreté et la liberté d’être. \nPour cela\, la pratique de l’EFT (Emotional Freedom Techniques) est l’outil essentiel. ​Il nous permet de nous rendre disponibles à « nous-m’aime » et d’apaiser ce qui génèrent nos mal-êtres. L’EFT libère en temps réel les tensions\, émotions\, pensées négatives\, traumatismes… par des tapotements sur les méridiens du corps\, conjugués à des formulations en direction du subconscient. \nAutres dates pour les ateliers\nDurée : 2h \n\nHoraires : 16h à 18h (heure de Paris) \n\nFormat : en ligne \n\nPrérequis : avoir au moins suivi EFT 1 avec moi \n\nTarif : 30€ \n\nMode de paiement : CB\, virement\, chèque ou Wero (ex Paylib) \nConditions d’annulation\nSi l’annulation de la formation a lieu 10 jours ou plus avant sa date de début\, nous remboursons la totalité de l’acompte sur présentation d’un justificatif. Si l’annulation de la formation a lieu moins de 10 jours avant la date\, nous ne remboursons pas mais l’acompte sera reporté sur une prochaine session. \nEn savoir + sur l’EFTConditions de règlement\nPar VIREMENT\, CHEQUE\, ou WERO : Merci de m’indiquer via le formulaire de contact\, l’atelier que vous souhaitez réserver. Vous recevrez le RIB ; Sylvie Alves 2 rue de l’église 52500 Pressigny ; WERO (ex Paylib) : 06 26 82 82 08 \nPar CB (Stripe ou ApplePay) : réglez directement l’acompte en ligne en sélectionnant le nombre de participants dans l’encadré ci-dessous.
URL:https://sylviealves.com/event/atelier-eft-avril-2026-2/
LOCATION:En ligne\, Plateforme Zoom
CATEGORIES:EFT,EFT Atelier,EFT Niveau 1,EFT Niveau 2
ATTACH;FMTTYPE=image/jpeg:https://sylviealves.com/wp-content/uploads/2023/09/atelier-revision-eft.jpg
ORGANIZER;CN="Sylvie Alves":MAILTO:toctoc@sylviealves.com
END:VEVENT
END:VCALENDAR